BEGIN:VCALENDAR
VERSION:2.0
PRODID:-//Lake Walk - ECPv6.15.17//NONSGML v1.0//EN
CALSCALE:GREGORIAN
METHOD:PUBLISH
X-WR-CALNAME:Lake Walk
X-ORIGINAL-URL:https://lakewalktx.com
X-WR-CALDESC:Events for Lake Walk
REFRESH-INTERVAL;VALUE=DURATION:PT1H
X-Robots-Tag:noindex
X-PUBLISHED-TTL:PT1H
BEGIN:VTIMEZONE
TZID:America/Chicago
BEGIN:DAYLIGHT
TZOFFSETFROM:-0600
TZOFFSETTO:-0500
TZNAME:CDT
DTSTART:20210314T080000
END:DAYLIGHT
BEGIN:STANDARD
TZOFFSETFROM:-0500
TZOFFSETTO:-0600
TZNAME:CST
DTSTART:20211107T070000
END:STANDARD
BEGIN:DAYLIGHT
TZOFFSETFROM:-0600
TZOFFSETTO:-0500
TZNAME:CDT
DTSTART:20220313T080000
END:DAYLIGHT
BEGIN:STANDARD
TZOFFSETFROM:-0500
TZOFFSETTO:-0600
TZNAME:CST
DTSTART:20221106T070000
END:STANDARD
BEGIN:DAYLIGHT
TZOFFSETFROM:-0600
TZOFFSETTO:-0500
TZNAME:CDT
DTSTART:20230312T080000
END:DAYLIGHT
BEGIN:STANDARD
TZOFFSETFROM:-0500
TZOFFSETTO:-0600
TZNAME:CST
DTSTART:20231105T070000
END:STANDARD
END:VTIMEZONE
BEGIN:VEVENT
DTSTART;TZID=America/Chicago:20221231T100000
DTEND;TZID=America/Chicago:20221231T140000
DTSTAMP:20260425T120933
CREATED:20221220T212120Z
LAST-MODIFIED:20221220T212120Z
UID:10000567-1672480800-1672495200@lakewalktx.com
SUMMARY:Rockin' Noon Year's Eve!
DESCRIPTION:Join The Children’s Museum of The Brazos Valley for a fun-filled kids New Year’s Eve celebration at The Pavilion on Saturday\, December 31st from 10:00 am – 2:00 pm. Enjoy free admission to the Museum with a fireworks making pop-up\, then head on out to the Pavilion for additional entertainment including food trucks\, music\, and an extra-special confetti ball toss at noon. \nFood trucks include: Zio’s Party Treats\, Raging Bull Street Tacos\, and Rachel’s Sweet Eats
URL:https://lakewalktx.com/event/rocking-noon-years-party-at-lake-walk/
LOCATION:The Pavilion at Lake Walk\, 4107 Lake Atlas Dr\, Bryan\, TX\, 77807\, United States
CATEGORIES:Arts,Community,Family Friendly,Kids
ATTACH;FMTTYPE=image/jpeg:https://lakewalktx.com/wp-content/uploads/2022/12/319208995_580475967419706_2240941198205693853_n.jpeg
END:VEVENT
END:VCALENDAR