BEGIN:VCALENDAR
VERSION:2.0
PRODID:-//Lake Walk - ECPv6.15.17//NONSGML v1.0//EN
CALSCALE:GREGORIAN
METHOD:PUBLISH
X-ORIGINAL-URL:https://lakewalktx.com
X-WR-CALDESC:Events for Lake Walk
REFRESH-INTERVAL;VALUE=DURATION:PT1H
X-Robots-Tag:noindex
X-PUBLISHED-TTL:PT1H
BEGIN:VTIMEZONE
TZID:America/Chicago
BEGIN:DAYLIGHT
TZOFFSETFROM:-0600
TZOFFSETTO:-0500
TZNAME:CDT
DTSTART:20250309T080000
END:DAYLIGHT
BEGIN:STANDARD
TZOFFSETFROM:-0500
TZOFFSETTO:-0600
TZNAME:CST
DTSTART:20251102T070000
END:STANDARD
BEGIN:DAYLIGHT
TZOFFSETFROM:-0600
TZOFFSETTO:-0500
TZNAME:CDT
DTSTART:20260308T080000
END:DAYLIGHT
BEGIN:STANDARD
TZOFFSETFROM:-0500
TZOFFSETTO:-0600
TZNAME:CST
DTSTART:20261101T070000
END:STANDARD
BEGIN:DAYLIGHT
TZOFFSETFROM:-0600
TZOFFSETTO:-0500
TZNAME:CDT
DTSTART:20270314T080000
END:DAYLIGHT
BEGIN:STANDARD
TZOFFSETFROM:-0500
TZOFFSETTO:-0600
TZNAME:CST
DTSTART:20271107T070000
END:STANDARD
END:VTIMEZONE
BEGIN:VEVENT
DTSTART;TZID=America/Chicago:20260213T210000
DTEND;TZID=America/Chicago:20260213T230000
DTSTAMP:20260425T111127
CREATED:20260212T165317Z
LAST-MODIFIED:20260212T165359Z
UID:10002858-1771016400-1771023600@lakewalktx.com
SUMMARY:February Live Music at Hershel's
DESCRIPTION:Visit The Stella Hotel and enjoy live music inside of Hershel’s every Friday and Saturday night starting at 9 PM. This month’s featured local artists are: \nFeb 13 – Taylor Graves \nFeb 14 – Heath Ham \nFeb 20 – Chris Helms \nFeb 21 – Chris Rhoden/Mercury Moonshine \nFeb 27 – Chris Crow \nFeb 28 – Austin Gilliam
URL:https://lakewalktx.com/event/february-live-music-at-hershels/
LOCATION:Hershel’s\, 4100 Lake Atlas Dr\, Bryan\, TX\, 77807
CATEGORIES:Late Night,Live Music
ATTACH;FMTTYPE=image/png:https://lakewalktx.com/wp-content/uploads/2026/02/Lake-Walk-Events-Sized-Image-39.png
END:VEVENT
BEGIN:VEVENT
DTSTART;TZID=America/Chicago:20260214T210000
DTEND;TZID=America/Chicago:20260214T230000
DTSTAMP:20260425T111127
CREATED:20260212T165548Z
LAST-MODIFIED:20260212T165548Z
UID:10002859-1771102800-1771110000@lakewalktx.com
SUMMARY:February Live Music at Hershel's
DESCRIPTION:Visit The Stella Hotel and enjoy live music inside of Hershel’s every Friday and Saturday night starting at 9 PM. This month’s featured local artists are: \nFeb 13 – Taylor Graves \nFeb 14 – Heath Ham \nFeb 20 – Chris Helms \nFeb 21 – Chris Rhoden/Mercury Moonshine \nFeb 27 – Chris Crow \nFeb 28 – Austin Gilliam
URL:https://lakewalktx.com/event/february-live-music-at-hershels-2/
LOCATION:Hershel’s\, 4100 Lake Atlas Dr\, Bryan\, TX\, 77807
CATEGORIES:Late Night,Live Music
ATTACH;FMTTYPE=image/png:https://lakewalktx.com/wp-content/uploads/2026/02/Lake-Walk-Events-Sized-Image-39.png
END:VEVENT
BEGIN:VEVENT
DTSTART;TZID=America/Chicago:20260220T210000
DTEND;TZID=America/Chicago:20260220T230000
DTSTAMP:20260425T111127
CREATED:20260212T165625Z
LAST-MODIFIED:20260212T170031Z
UID:10002860-1771621200-1771628400@lakewalktx.com
SUMMARY:February Live Music at Hershel's
DESCRIPTION:Visit The Stella Hotel and enjoy live music inside of Hershel’s every Friday and Saturday night starting at 9 PM. This month’s featured local artists are: \nFeb 13 – Taylor Graves \nFeb 14 – Heath Ham \nFeb 20 – Chris Helms \nFeb 21 – Chris Rhoden/Mercury Moonshine \nFeb 27 – Chris Crow \nFeb 28 – Austin Gilliam
URL:https://lakewalktx.com/event/february-live-music-at-hershels-3/
LOCATION:Hershel’s\, 4100 Lake Atlas Dr\, Bryan\, TX\, 77807
CATEGORIES:Late Night,Live Music
ATTACH;FMTTYPE=image/png:https://lakewalktx.com/wp-content/uploads/2026/02/Lake-Walk-Events-Sized-Image-39.png
END:VEVENT
BEGIN:VEVENT
DTSTART;TZID=America/Chicago:20260221T210000
DTEND;TZID=America/Chicago:20260221T230000
DTSTAMP:20260425T111127
CREATED:20260212T165724Z
LAST-MODIFIED:20260212T170125Z
UID:10002862-1771707600-1771714800@lakewalktx.com
SUMMARY:February Live Music at Hershel's
DESCRIPTION:Visit The Stella Hotel and enjoy live music inside of Hershel’s every Friday and Saturday night starting at 9 PM. This month’s featured local artists are: \nFeb 13 – Taylor Graves \nFeb 14 – Heath Ham \nFeb 20 – Chris Helms \nFeb 21 – Chris Rhoden/Mercury Moonshine \nFeb 27 – Chris Crow \nFeb 28 – Austin Gilliam
URL:https://lakewalktx.com/event/february-live-music-at-hershels-4/
LOCATION:Hershel’s\, 4100 Lake Atlas Dr\, Bryan\, TX\, 77807
CATEGORIES:Late Night,Live Music
ATTACH;FMTTYPE=image/png:https://lakewalktx.com/wp-content/uploads/2026/02/Lake-Walk-Events-Sized-Image-39.png
END:VEVENT
BEGIN:VEVENT
DTSTART;TZID=America/Chicago:20260227T210000
DTEND;TZID=America/Chicago:20260227T230000
DTSTAMP:20260425T111127
CREATED:20260212T165813Z
LAST-MODIFIED:20260212T165955Z
UID:10002863-1772226000-1772233200@lakewalktx.com
SUMMARY:February Live Music at Hershel's
DESCRIPTION:Visit The Stella Hotel and enjoy live music inside of Hershel’s every Friday and Saturday night starting at 9 PM. This month’s featured local artists are: \nFeb 13 – Taylor Graves \nFeb 14 – Heath Ham \nFeb 20 – Chris Helms \nFeb 21 – Chris Rhoden/Mercury Moonshine \nFeb 27 – Chris Crow \nFeb 28 – Austin Gilliam
URL:https://lakewalktx.com/event/february-live-music-at-hershels-5/
LOCATION:Hershel’s\, 4100 Lake Atlas Dr\, Bryan\, TX\, 77807
CATEGORIES:Late Night,Live Music
ATTACH;FMTTYPE=image/png:https://lakewalktx.com/wp-content/uploads/2026/02/Lake-Walk-Events-Sized-Image-39.png
END:VEVENT
BEGIN:VEVENT
DTSTART;TZID=America/Chicago:20260228T210000
DTEND;TZID=America/Chicago:20260228T230000
DTSTAMP:20260425T111127
CREATED:20260212T165841Z
LAST-MODIFIED:20260212T165907Z
UID:10002864-1772312400-1772319600@lakewalktx.com
SUMMARY:February Live Music at Hershel's
DESCRIPTION:Visit The Stella Hotel and enjoy live music inside of Hershel’s every Friday and Saturday night starting at 9 PM. This month’s featured local artists are: \nFeb 13 – Taylor Graves \nFeb 14 – Heath Ham \nFeb 20 – Chris Helms \nFeb 21 – Chris Rhoden/Mercury Moonshine \nFeb 27 – Chris Crow \nFeb 28 – Austin Gilliam
URL:https://lakewalktx.com/event/february-live-music-at-hershels-6/
LOCATION:Hershel’s\, 4100 Lake Atlas Dr\, Bryan\, TX\, 77807
CATEGORIES:Late Night,Live Music
ATTACH;FMTTYPE=image/png:https://lakewalktx.com/wp-content/uploads/2026/02/Lake-Walk-Events-Sized-Image-39.png
END:VEVENT
END:VCALENDAR