BEGIN:VCALENDAR
VERSION:2.0
PRODID:-//Lake Walk - ECPv6.15.17//NONSGML v1.0//EN
CALSCALE:GREGORIAN
METHOD:PUBLISH
X-WR-CALNAME:Lake Walk
X-ORIGINAL-URL:https://lakewalktx.com
X-WR-CALDESC:Events for Lake Walk
REFRESH-INTERVAL;VALUE=DURATION:PT1H
X-Robots-Tag:noindex
X-PUBLISHED-TTL:PT1H
BEGIN:VTIMEZONE
TZID:America/Chicago
BEGIN:DAYLIGHT
TZOFFSETFROM:-0600
TZOFFSETTO:-0500
TZNAME:CDT
DTSTART:20240310T080000
END:DAYLIGHT
BEGIN:STANDARD
TZOFFSETFROM:-0500
TZOFFSETTO:-0600
TZNAME:CST
DTSTART:20241103T070000
END:STANDARD
BEGIN:DAYLIGHT
TZOFFSETFROM:-0600
TZOFFSETTO:-0500
TZNAME:CDT
DTSTART:20250309T080000
END:DAYLIGHT
BEGIN:STANDARD
TZOFFSETFROM:-0500
TZOFFSETTO:-0600
TZNAME:CST
DTSTART:20251102T070000
END:STANDARD
BEGIN:DAYLIGHT
TZOFFSETFROM:-0600
TZOFFSETTO:-0500
TZNAME:CDT
DTSTART:20260308T080000
END:DAYLIGHT
BEGIN:STANDARD
TZOFFSETFROM:-0500
TZOFFSETTO:-0600
TZNAME:CST
DTSTART:20261101T070000
END:STANDARD
END:VTIMEZONE
BEGIN:VEVENT
DTSTART;TZID=America/Chicago:20251220T170000
DTEND;TZID=America/Chicago:20251220T170000
DTSTAMP:20260423T052746
CREATED:20251207T160033Z
LAST-MODIFIED:20251207T160315Z
UID:10002705-1766250000-1766250000@lakewalktx.com
SUMMARY:The Active Texan Tinsel Trot
DESCRIPTION:We are thrilled to announce the upcoming Active Texan Tinsel Trot\, a festive holiday 5K\, 10K race and 1 mile kids/family fun run at Lake Walk on December 20th. Grab your friends\, your family\, your team\, your club and come enjoy this fun festive evening race. We will finish the race as the sun sets on the green by the pavilion at Lake Walk. \n\n\nAwards will be presented to the top three overall male and female finishers in both the 5K and 10K races. All participants will receive a finisher medal. Additionally\, 5K and 10K participants will receive a race shirt\, while 1-Mile Fun Run finishers will receive a smaller medal. There are no age group awards or t-shirts for the fun run. \n\n\nFor 10k participants only\, a headlamp is highly recommended as the race will finish in the dark\, however the course is well lit for a majority of it by the streetlights. We will also have some glow sticks/bracelets for participants to wear.
URL:https://lakewalktx.com/event/the-active-texan-tinsel-trot/
LOCATION:The Pavilion at Lake Walk\, 4107 Lake Atlas Dr\, Bryan\, TX\, 77807\, United States
CATEGORIES:Athletics,Kids,Special Event,Wellness
ATTACH;FMTTYPE=image/png:https://lakewalktx.com/wp-content/uploads/2025/12/Lake-Walk-Events-Sized-Image-21.png
END:VEVENT
END:VCALENDAR