BEGIN:VCALENDAR
VERSION:2.0
PRODID:-//Lake Walk - ECPv6.15.17//NONSGML v1.0//EN
CALSCALE:GREGORIAN
METHOD:PUBLISH
X-WR-CALNAME:Lake Walk
X-ORIGINAL-URL:https://lakewalktx.com
X-WR-CALDESC:Events for Lake Walk
REFRESH-INTERVAL;VALUE=DURATION:PT1H
X-Robots-Tag:noindex
X-PUBLISHED-TTL:PT1H
BEGIN:VTIMEZONE
TZID:America/Chicago
BEGIN:DAYLIGHT
TZOFFSETFROM:-0600
TZOFFSETTO:-0500
TZNAME:CDT
DTSTART:20220313T080000
END:DAYLIGHT
BEGIN:STANDARD
TZOFFSETFROM:-0500
TZOFFSETTO:-0600
TZNAME:CST
DTSTART:20221106T070000
END:STANDARD
BEGIN:DAYLIGHT
TZOFFSETFROM:-0600
TZOFFSETTO:-0500
TZNAME:CDT
DTSTART:20230312T080000
END:DAYLIGHT
BEGIN:STANDARD
TZOFFSETFROM:-0500
TZOFFSETTO:-0600
TZNAME:CST
DTSTART:20231105T070000
END:STANDARD
BEGIN:DAYLIGHT
TZOFFSETFROM:-0600
TZOFFSETTO:-0500
TZNAME:CDT
DTSTART:20240310T080000
END:DAYLIGHT
BEGIN:STANDARD
TZOFFSETFROM:-0500
TZOFFSETTO:-0600
TZNAME:CST
DTSTART:20241103T070000
END:STANDARD
BEGIN:DAYLIGHT
TZOFFSETFROM:-0600
TZOFFSETTO:-0500
TZNAME:CDT
DTSTART:20250309T080000
END:DAYLIGHT
BEGIN:STANDARD
TZOFFSETFROM:-0500
TZOFFSETTO:-0600
TZNAME:CST
DTSTART:20251102T070000
END:STANDARD
END:VTIMEZONE
BEGIN:VEVENT
DTSTART;TZID=America/Chicago:20241017T101500
DTEND;TZID=America/Chicago:20241017T111500
DTSTAMP:20260425T103800
CREATED:20241024T161255Z
LAST-MODIFIED:20241024T161256Z
UID:10001023-1729160100-1729163700@lakewalktx.com
SUMMARY:Once Upon a Storytime
DESCRIPTION:Join The Children’s Museum of Brazos Valley every Thursday this fall!\nEach storytime explores a different story followed by a related craft designed to develop skills and knowledge in your little one. For previews of the upcoming books and crafts\, follow @cmbvsmile on social media.
URL:https://lakewalktx.com/event/once-upon-a-storytime-2024-2-2/
LOCATION:The Pavilion at Lake Walk\, 4107 Lake Atlas Dr\, Bryan\, TX\, 77807\, United States
CATEGORIES:Arts,Family Friendly,Kids
ATTACH;FMTTYPE=image/png:https://lakewalktx.com/wp-content/uploads/2024/08/Tv-banner-1.png
END:VEVENT
BEGIN:VEVENT
DTSTART;TZID=America/Chicago:20240928T110000
DTEND;TZID=America/Chicago:20240928T130000
DTSTAMP:20260425T103800
CREATED:20240912T200053Z
LAST-MODIFIED:20240928T032712Z
UID:10001087-1727521200-1727528400@lakewalktx.com
SUMMARY:Worldwide Day of Play with CMBV
DESCRIPTION:Enjoy field games and fresh air with The Children’s Museum of Brazos Valley!\nThis event is designed to encourage families across the world to take time away from technology and get outside. CMBV is putting on a field day at the Lake Walk Pavilion to create a space for families to get outside\, get moving\, and have fun away from technology. Click here for more information.
URL:https://lakewalktx.com/event/worldwide-day-of-play-with-cmbv/
LOCATION:The Children’s Museum of the Brazos Valley\, 4114 Lake Atlas Dr.\, Suite 110\, Bryan\, TX\, 77807
CATEGORIES:Family Friendly,Kids,Wellness
ATTACH;FMTTYPE=image/jpeg:https://lakewalktx.com/wp-content/uploads/2021/09/CM_002-min.jpg
END:VEVENT
BEGIN:VEVENT
DTSTART;TZID=America/Chicago:20231231T110000
DTEND;TZID=America/Chicago:20231231T130000
DTSTAMP:20260425T103800
CREATED:20231220T221643Z
LAST-MODIFIED:20231220T221643Z
UID:10000841-1704020400-1704027600@lakewalktx.com
SUMMARY:Noon Years Eve with CMBV
DESCRIPTION:Celebrate the start of 2024 with The Children’s Museum of Brazos Valley!\nCome and enjoy some New Year-themed crafts while we learn about how different cultures from across the world ring in the new year! Storytimes and crafts curated by The Children’s Museum of Brazos Valley will be held throughout the event. For more information\, click here to connect with the museum.
URL:https://lakewalktx.com/event/noon-years-eve/
LOCATION:The Pavilion at Lake Walk\, 4107 Lake Atlas Dr\, Bryan\, TX\, 77807\, United States
CATEGORIES:Community,Family Friendly
ATTACH;FMTTYPE=image/png:https://lakewalktx.com/wp-content/uploads/2023/12/Wordpress-Event-Headers-2.png
END:VEVENT
BEGIN:VEVENT
DTSTART;TZID=America/Chicago:20231209T150000
DTEND;TZID=America/Chicago:20231209T180000
DTSTAMP:20260425T103800
CREATED:20231120T200820Z
LAST-MODIFIED:20231120T200820Z
UID:10000819-1702134000-1702144800@lakewalktx.com
SUMMARY:Little Wonders
DESCRIPTION:It’s the most wonderful time of the year\, and we are so excited to celebrate with you!\nHosted by The Children’s Museum of Brazos Valley\, express your creativity with ornament making\, take free photos with Santa\, and enjoy live storytelling and musical performances. \nVisit The Children’s Museum of Brazos Valley in person or online for more information.
URL:https://lakewalktx.com/event/little-wonders-2023/
LOCATION:The Pavilion at Lake Walk\, 4107 Lake Atlas Dr\, Bryan\, TX\, 77807\, United States
CATEGORIES:Community,Family Friendly,Kids
ATTACH;FMTTYPE=image/png:https://lakewalktx.com/wp-content/uploads/2023/11/Little-Wonders.png
END:VEVENT
BEGIN:VEVENT
DTSTART;TZID=America/Chicago:20231031T170000
DTEND;TZID=America/Chicago:20231031T190000
DTSTAMP:20260425T103800
CREATED:20231026T171430Z
LAST-MODIFIED:20231026T171430Z
UID:10000813-1698771600-1698778800@lakewalktx.com
SUMMARY:Little Boo-seum
DESCRIPTION:Enjoy a hauntingly fun night at Little Boo-seum on Halloween!\nThe Children’s Museum of Brazos Valley is hosting a spooktacular afternoon at Lake Walk with a themed scavenger hunt featuring toys and activities throughout our Town Center. \nFun for the entire family and free to participate. Join us on Tuesday\, October 31st from 5 to 7 p.m. This event is come and go with an anticipated completion time of 30 minutes. \nVisit The Children’s Museum of Brazos Valley for more information.
URL:https://lakewalktx.com/event/little-boo-seum/
CATEGORIES:Community,Family Friendly,Kids
ATTACH;FMTTYPE=image/png:https://lakewalktx.com/wp-content/uploads/2023/10/FB-Cover-LB.png
END:VEVENT
END:VCALENDAR